BEGIN:VCALENDAR
VERSION:2.0
PRODID:-//Queens Harbour Yacht Club - ECPv6.15.20//NONSGML v1.0//EN
CALSCALE:GREGORIAN
METHOD:PUBLISH
X-WR-CALNAME:Queens Harbour Yacht Club
X-ORIGINAL-URL:https://queensharbouryc.com
X-WR-CALDESC:Events for Queens Harbour Yacht Club
REFRESH-INTERVAL;VALUE=DURATION:PT1H
X-Robots-Tag:noindex
X-PUBLISHED-TTL:PT1H
BEGIN:VTIMEZONE
TZID:America/New_York
BEGIN:DAYLIGHT
TZOFFSETFROM:-0500
TZOFFSETTO:-0400
TZNAME:EDT
DTSTART:20250309T070000
END:DAYLIGHT
BEGIN:STANDARD
TZOFFSETFROM:-0400
TZOFFSETTO:-0500
TZNAME:EST
DTSTART:20251102T060000
END:STANDARD
BEGIN:DAYLIGHT
TZOFFSETFROM:-0500
TZOFFSETTO:-0400
TZNAME:EDT
DTSTART:20260308T070000
END:DAYLIGHT
BEGIN:STANDARD
TZOFFSETFROM:-0400
TZOFFSETTO:-0500
TZNAME:EST
DTSTART:20261101T060000
END:STANDARD
BEGIN:DAYLIGHT
TZOFFSETFROM:-0500
TZOFFSETTO:-0400
TZNAME:EDT
DTSTART:20270314T070000
END:DAYLIGHT
BEGIN:STANDARD
TZOFFSETFROM:-0400
TZOFFSETTO:-0500
TZNAME:EST
DTSTART:20271107T060000
END:STANDARD
END:VTIMEZONE
BEGIN:VEVENT
DTSTART;VALUE=DATE:20261002
DTEND;VALUE=DATE:20261005
DTSTAMP:20260420T110853
CREATED:20260414T030020Z
LAST-MODIFIED:20260420T135240Z
UID:3494-1790899200-1791158399@queensharbouryc.com
SUMMARY:Overnight Cruise: Jekyll Island
DESCRIPTION:Overnight Cruise to Jekyll Island \nDATE SUBJECT TO CHANGE AS WE FINALIZE AVAILABILITY AND RESERVATIONS. \nExperience an elegant coastal escape as we cruise to Jekyll Island and dock at the Jekyll Harbor Marina. \nFriday evening begins with docktails along the marina—an effortless gathering of cocktails\, conversation\, and golden-hour views. Saturday unfolds at your leisure: explore charming island boutiques\, enjoy the nearby water park\, or unwind along the pristine oceanfront. \nAs evening falls\, we’ll come together for a curated group dinner\, offering the perfect setting to relax\, connect\, and savor the experience. \nA refined blend of boating\, coastal beauty\, and effortless camaraderie—this is Jekyll Island at its best.
URL:https://queensharbouryc.com/event/overnight-cruise-jekyll-island/
CATEGORIES:Cruising
ATTACH;FMTTYPE=image/jpeg:https://queensharbouryc.com/wp-content/uploads/2026/04/jekyll.jpg
END:VEVENT
BEGIN:VEVENT
DTSTART;VALUE=DATE:20261009
DTEND;VALUE=DATE:20261012
DTSTAMP:20260420T110853
CREATED:20260413T015915Z
LAST-MODIFIED:20260414T023017Z
UID:3447-1791504000-1791763199@queensharbouryc.com
SUMMARY:Overnight Cruise: Welaka (up the St. John's River)
DESCRIPTION:DATE TO BE DETERMINED.  Join us for a relaxed overnight cruise to Welaka Lodge & Resort\, a hidden Old Florida retreat along the scenic St. Johns River. Cruise as a flotilla through beautiful waterways before arriving at this charming waterfront destination. \nEnjoy dockside cocktails\, live music\, and sunset views\, then unwind in cozy accommodations steps from the river. Spend the evening dining and socializing with fellow members\, and wake up to a peaceful morning on the water before cruising home refreshed. \nLIMITED CAPACITY – 10 Cottages Available (3 are also pet friendly!).
URL:https://queensharbouryc.com/event/overnight-cruise-welaka-up-the-st-johns-river/
LOCATION:Welaka\, 1001 Front St\, Welaka\, 32193\, United States
CATEGORIES:Cruising,Party
ATTACH;FMTTYPE=image/png:https://queensharbouryc.com/wp-content/uploads/2026/04/IMG_6632.png
END:VEVENT
BEGIN:VEVENT
DTSTART;TZID=America/New_York:20261017T170000
DTEND;TZID=America/New_York:20261017T200000
DTSTAMP:20260420T110853
CREATED:20260413T023957Z
LAST-MODIFIED:20260415T002653Z
UID:3468-1792256400-1792267200@queensharbouryc.com
SUMMARY:Overnight Cruise: Visit another Yacht Club and watch the Blue Angels - NAS Jax
DESCRIPTION:Join us on the water for an unforgettable day at the Blue Angels Airshow. Experience the thrill of world-class aerial performances from the best seat in the house—your boat. Anchor together with fellow members\, enjoy food and drinks\, and take in the incredible precision and power of the show overhead.
URL:https://queensharbouryc.com/event/blue-angels-nas-jax/
CATEGORIES:Cruising,Party
ATTACH;FMTTYPE=image/jpeg:https://queensharbouryc.com/wp-content/uploads/2022/08/airandseashowjax-scaled.jpg
END:VEVENT
END:VCALENDAR