BEGIN:VCALENDAR
VERSION:2.0
PRODID:-//Queens Harbour Yacht Club - ECPv6.15.20//NONSGML v1.0//EN
CALSCALE:GREGORIAN
METHOD:PUBLISH
X-ORIGINAL-URL:https://queensharbouryc.com
X-WR-CALDESC:Events for Queens Harbour Yacht Club
REFRESH-INTERVAL;VALUE=DURATION:PT1H
X-Robots-Tag:noindex
X-PUBLISHED-TTL:PT1H
BEGIN:VTIMEZONE
TZID:America/New_York
BEGIN:DAYLIGHT
TZOFFSETFROM:-0500
TZOFFSETTO:-0400
TZNAME:EDT
DTSTART:20250309T070000
END:DAYLIGHT
BEGIN:STANDARD
TZOFFSETFROM:-0400
TZOFFSETTO:-0500
TZNAME:EST
DTSTART:20251102T060000
END:STANDARD
BEGIN:DAYLIGHT
TZOFFSETFROM:-0500
TZOFFSETTO:-0400
TZNAME:EDT
DTSTART:20260308T070000
END:DAYLIGHT
BEGIN:STANDARD
TZOFFSETFROM:-0400
TZOFFSETTO:-0500
TZNAME:EST
DTSTART:20261101T060000
END:STANDARD
BEGIN:DAYLIGHT
TZOFFSETFROM:-0500
TZOFFSETTO:-0400
TZNAME:EDT
DTSTART:20270314T070000
END:DAYLIGHT
BEGIN:STANDARD
TZOFFSETFROM:-0400
TZOFFSETTO:-0500
TZNAME:EST
DTSTART:20271107T060000
END:STANDARD
END:VTIMEZONE
BEGIN:VEVENT
DTSTART;TZID=America/New_York:20260426T150000
DTEND;TZID=America/New_York:20260426T190000
DTSTAMP:20260420T015531
CREATED:20260330T022326Z
LAST-MODIFIED:20260416T171759Z
UID:3332-1777215600-1777230000@queensharbouryc.com
SUMMARY:Blessing of the Fleet and Yacht Club Member Barbecue
DESCRIPTION:QHYC BLESSING OF THE FLEETAn Afternoon on the Water & Fellowship Ashore \nSunday\, April 263:00 PMQueen’s Harbour Lock followed by Dinner at the QH Pavilion at the front of the community (or Multipurpose Room for weather) \nAll QH residents and boat owners are invited to join in one of the Yacht Club’s most meaningful traditions as boats line up in the lock basin to have both vessel and crew blessed. Spectators are welcome to join at the lock to observe the blessings\, \nBoats should line up in the lock basin beginning at 2:30 PM and pass by to have your boat and crew blessed by Fr. Anthony. \nFollowing the ceremony\, Yacht Club members are invited to stay for a barbecue and fellowship ashore. \nEvent Details\n\nBlessing begins: 3:00 PM\nBoat lineup: 2:30 PM in the lock basin\nLocation: The Lock\nBlessing by: Fr. Anthony\nDinner: Immediately following the blessing at the Multipurpose Room\nMember gathering afterward: Barbecue for Yacht Club members\n\nQHYC Blessing of the Fleet
URL:https://queensharbouryc.com/event/blessing-of-the-fleet-and-dinner/
LOCATION:QH Multipurpose Room\, 238 Queens Harbor Blvd\, Jacksonville\, FL\, United States
CATEGORIES:Cruising
ATTACH;FMTTYPE=image/jpeg:https://queensharbouryc.com/wp-content/uploads/2026/03/IMG_4101.jpg
END:VEVENT
END:VCALENDAR