BEGIN:VCALENDAR
VERSION:2.0
PRODID:-//Queens Harbour Yacht Club - ECPv6.15.20//NONSGML v1.0//EN
CALSCALE:GREGORIAN
METHOD:PUBLISH
X-WR-CALNAME:Queens Harbour Yacht Club
X-ORIGINAL-URL:https://queensharbouryc.com
X-WR-CALDESC:Events for Queens Harbour Yacht Club
REFRESH-INTERVAL;VALUE=DURATION:PT1H
X-Robots-Tag:noindex
X-PUBLISHED-TTL:PT1H
BEGIN:VTIMEZONE
TZID:America/New_York
BEGIN:DAYLIGHT
TZOFFSETFROM:-0500
TZOFFSETTO:-0400
TZNAME:EDT
DTSTART:20250309T070000
END:DAYLIGHT
BEGIN:STANDARD
TZOFFSETFROM:-0400
TZOFFSETTO:-0500
TZNAME:EST
DTSTART:20251102T060000
END:STANDARD
BEGIN:DAYLIGHT
TZOFFSETFROM:-0500
TZOFFSETTO:-0400
TZNAME:EDT
DTSTART:20260308T070000
END:DAYLIGHT
BEGIN:STANDARD
TZOFFSETFROM:-0400
TZOFFSETTO:-0500
TZNAME:EST
DTSTART:20261101T060000
END:STANDARD
BEGIN:DAYLIGHT
TZOFFSETFROM:-0500
TZOFFSETTO:-0400
TZNAME:EDT
DTSTART:20270314T070000
END:DAYLIGHT
BEGIN:STANDARD
TZOFFSETFROM:-0400
TZOFFSETTO:-0500
TZNAME:EST
DTSTART:20271107T060000
END:STANDARD
BEGIN:DAYLIGHT
TZOFFSETFROM:-0500
TZOFFSETTO:-0400
TZNAME:EDT
DTSTART:20280312T070000
END:DAYLIGHT
BEGIN:STANDARD
TZOFFSETFROM:-0400
TZOFFSETTO:-0500
TZNAME:EST
DTSTART:20281105T060000
END:STANDARD
END:VTIMEZONE
BEGIN:VEVENT
DTSTART;TZID=America/New_York:20260426T150000
DTEND;TZID=America/New_York:20260426T190000
DTSTAMP:20260420T001854
CREATED:20260330T022326Z
LAST-MODIFIED:20260416T171759Z
UID:3332-1777215600-1777230000@queensharbouryc.com
SUMMARY:Blessing of the Fleet and Yacht Club Member Barbecue
DESCRIPTION:QHYC BLESSING OF THE FLEETAn Afternoon on the Water & Fellowship Ashore \nSunday\, April 263:00 PMQueen’s Harbour Lock followed by Dinner at the QH Pavilion at the front of the community (or Multipurpose Room for weather) \nAll QH residents and boat owners are invited to join in one of the Yacht Club’s most meaningful traditions as boats line up in the lock basin to have both vessel and crew blessed. Spectators are welcome to join at the lock to observe the blessings\, \nBoats should line up in the lock basin beginning at 2:30 PM and pass by to have your boat and crew blessed by Fr. Anthony. \nFollowing the ceremony\, Yacht Club members are invited to stay for a barbecue and fellowship ashore. \nEvent Details\n\nBlessing begins: 3:00 PM\nBoat lineup: 2:30 PM in the lock basin\nLocation: The Lock\nBlessing by: Fr. Anthony\nDinner: Immediately following the blessing at the Multipurpose Room\nMember gathering afterward: Barbecue for Yacht Club members\n\nQHYC Blessing of the Fleet
URL:https://queensharbouryc.com/event/blessing-of-the-fleet-and-dinner/
LOCATION:QH Multipurpose Room\, 238 Queens Harbor Blvd\, Jacksonville\, FL\, United States
CATEGORIES:Cruising
ATTACH;FMTTYPE=image/jpeg:https://queensharbouryc.com/wp-content/uploads/2026/03/IMG_4101.jpg
END:VEVENT
BEGIN:VEVENT
DTSTART;VALUE=DATE:20260515
DTEND;VALUE=DATE:20260518
DTSTAMP:20260420T001854
CREATED:20260407T211859Z
LAST-MODIFIED:20260416T174800Z
UID:3358-1778803200-1779062399@queensharbouryc.com
SUMMARY:Cruise to St. Augustine
DESCRIPTION:The first overnight boat trip to St. Augustine will take place from Friday\, May 15\, 2026 through Sunday\, May 17\, 2026. \nSchedule of events: \nFriday May 15:  6 pm Docktails at the Marina. Signups will go out May 1st. \nSat. May 16th: 2 pm — Tour of the historic St. Francis Barracks and Cemetery\, the current home of the Florida National Guard. The Command Historian will lead us through the Barracks and Cemetery\, which date back to the 1700s\, established by Franciscan Friars and then confiscated by the British military.\n$20 per person. Space is limited\, first come\, first served! RSVP for the tour by clicking this link: QueensHarbour.YC@gmail.com.   Please do not send payment now.  Once the RSVP list is finalized\, we will ask for payment to secure your spot. \nSat. May 16th: 5:30 pm — Cocktails and buffet dinner at the Officers Club at the St. Francis Barracks (walking distance to the Marina and free parking lot). The Barracks museum will be open during cocktail hour for members!! The menu will include light apps\, salad\, Carved King Round Of Beef and Mediterranean Chicken Medallions (veggie option available)\, roasted potatoes and vegetables\, and dessert. $78 per person\, including tax and service. Cash bar\, with discounted drinks. Space is limited\, first come\, first served!\nRSVP for dinner by clicking this link: QueensHarbour.YC@gmail.com.   Please do not send payment now.  Once the RSVP list is finalized\, we will ask for payment to secure your spot. \nBoaters: If you did not sign up for the QHYC group reservation\, please inquire about slip availability by calling the St. Augustine Municipal Marina. \nHotel Suggestions: please contact your trip captains at milford4808@gmail.com  We have compiled research by YC members who have already booked their rooms for this trip!! \nTrip Captains: Mike and Patty Ford
URL:https://queensharbouryc.com/event/cruise-to-st-augustine/
CATEGORIES:Cruising
ATTACH;FMTTYPE=image/jpeg:https://queensharbouryc.com/wp-content/uploads/2026/04/St-Francis.jpeg
END:VEVENT
BEGIN:VEVENT
DTSTART;TZID=America/New_York:20260521T170000
DTEND;TZID=America/New_York:20260521T200000
DTSTAMP:20260420T001854
CREATED:20260413T001027Z
LAST-MODIFIED:20260413T011428Z
UID:3405-1779382800-1779393600@queensharbouryc.com
SUMMARY:Jax Yacht Charter - Sip & Stroll then Cruise on Royal Princess
DESCRIPTION:  \nJoin a group of QH Yacht Club members on a Yacht downtown after the Sip and Stroll.  For additional information click here. \nAfter you buy your ticket directly from from Jax Yacht\, QH Yacht Club members\, please RSVP below.
URL:https://queensharbouryc.com/event/jazz-yacht-charter-royal-princess-sip-stroll/
LOCATION:Riverplace Dock Downtown Jacksonville\, 1501 Riverplace Boulevard - Dock\, Jacksonville\, 32207\, United States
CATEGORIES:Cruising,Party
ATTACH;FMTTYPE=image/webp:https://queensharbouryc.com/wp-content/uploads/2026/04/royal_princess_sip_and_stroll_print.webp
END:VEVENT
BEGIN:VEVENT
DTSTART;TZID=America/New_York:20260527T000000
DTEND;TZID=America/New_York:20260527T000000
DTSTAMP:20260420T001854
CREATED:20260413T005632Z
LAST-MODIFIED:20260414T225933Z
UID:3427-1779840000-1779840000@queensharbouryc.com
SUMMARY:Mayport Naval Station and Ship Tour
DESCRIPTION:SOLD OUT.  RSVP TO GET ON THE WAITLIST! \nJoin Queens Harbour Yacht Club for a tour to Mayport Naval Station. \n 
URL:https://queensharbouryc.com/event/mayport-naval-station-tour/
CATEGORIES:Cruising,Party
ATTACH;FMTTYPE=image/webp:https://queensharbouryc.com/wp-content/uploads/2026/04/Mayport_Naval_Station.webp
END:VEVENT
BEGIN:VEVENT
DTSTART;TZID=America/New_York:20260531T150000
DTEND;TZID=America/New_York:20260531T170000
DTSTAMP:20260420T001854
CREATED:20260413T003204Z
LAST-MODIFIED:20260417T185823Z
UID:3415-1780239600-1780246800@queensharbouryc.com
SUMMARY:QH Flotilla with Jazz at the South Basin
DESCRIPTION:Settle in for a one-of-a-kind afternoon on the water where live jazz meets laid-back luxury. \nJoin us on Sunday\, May 31 from 3:00–5:00 PM for a floating concert experience featuring the Raisin Cake Orchestra\, performing from the dock of Wayne Waters and Tegie Martin at 688 Hawks Trace Drive. Designed as a boat-only event\, members will gather by water\, anchoring and rafting together to create a relaxed\, social atmosphere with incredible live music. \nThe Raisin Cake Orchestra delivers the lively sounds and rhythms of traditional and New Orleans jazz—think upbeat brass\, toe-tapping rhythms\, and classic melodies that carry beautifully across the water. The band will perform two 50-minute sets with a short intermission in between. \nWe’ve intentionally scheduled this as an afternoon event so everyone can enjoy the music comfortably on the water—no battling the evening gnats\, just great weather\, great company\, and great jazz. In the event of rain\, the concert will be rescheduled. \nEvent Details: \n\n📍 Location: Dock of Wayne Waters & Tegie Martin (boat access only)\n🗓️ Date & Time: Sunday\, May 31\, 2026 3:00–5:00 PM\n🚤 Arrival: By boat only—guests will anchor and raft together nearby\n🎶 Music: Raisin Cake Orchestra – Traditional & New Orleans Jazz\n⏱️ Performance: Two 50-minute sets with a short break\n\nRegistration: \n\nBringing your own boat? Register below to secure your spot.\nNeed a ride? Register below and we’ll coordinate a place for you aboard another member’s boat.\n\nTie up\, kick back\, and enjoy an afternoon of classic jazz on the water—yacht club style. 🎷 \n 
URL:https://queensharbouryc.com/event/qh-flotilla-with-jazz-at-the-south-basin/
LOCATION:Queens Harbour Lagoon\, 1131 Queens Harbour Blvd\, 32225
CATEGORIES:Cruising,Party
ATTACH;FMTTYPE=image/png:https://queensharbouryc.com/wp-content/uploads/2026/04/jazz-flotilla.png
END:VEVENT
BEGIN:VEVENT
DTSTART;TZID=America/New_York:20260611T190000
DTEND;TZID=America/New_York:20260611T223000
DTSTAMP:20260420T001854
CREATED:20260413T004356Z
LAST-MODIFIED:20260413T011517Z
UID:3418-1781204400-1781217000@queensharbouryc.com
SUMMARY:Jumbo Shrimp!
DESCRIPTION:  \n  \n \n 
URL:https://queensharbouryc.com/event/jumbo-shrimp/
LOCATION:VyStar Stadium\, 301 A Philip Randolph Blvd\, Jacksonville\, florida\, 32202\, United States
CATEGORIES:Cruising,Party
ATTACH;FMTTYPE=image/webp:https://queensharbouryc.com/wp-content/uploads/2026/04/Jumbo-Shrimp.webp
END:VEVENT
BEGIN:VEVENT
DTSTART;VALUE=DATE:20260703
DTEND;VALUE=DATE:20260706
DTSTAMP:20260420T001854
CREATED:20260412T181756Z
LAST-MODIFIED:20260412T181756Z
UID:3394-1783036800-1783295999@queensharbouryc.com
SUMMARY:Overnight Cruise to Fernandina Beach
DESCRIPTION:Overnight Cruise to Fernandina Beach!!  July 3-5\, 2026 \nFireworks and and Fun in Fernandina go hand in hand \nWe know it’s early\, but this will be America’s 250th Birthday\, so we need an initial headcount!! Please reply to jtwo73@hotmail.com if you plan on making this trip by boat or by land. Let us know if you plan on staying one or two nights. We will send additional information soon to those who RSVP!\nIf arriving by boat\, please contact the marina using the following information:\nFernandina Harbor Marina\n3 S. Front Street\, Fernandina Beach\, FL 32034\nhttps://www.fernandinaharbormarina.com\n904-310-3300\nSpace is limited for 4th of July\, so secure your slip now! \nTrip Captains: Judy Ellis and Jeff Combs
URL:https://queensharbouryc.com/event/overnight-cruise-to-fernandina-beach/
CATEGORIES:Cruising
ATTACH;FMTTYPE=image/jpeg:https://queensharbouryc.com/wp-content/uploads/2026/04/Fireworks-scaled.jpg
END:VEVENT
BEGIN:VEVENT
DTSTART;TZID=America/New_York:20260719T110000
DTEND;TZID=America/New_York:20260719T140000
DTSTAMP:20260420T001854
CREATED:20260413T024605Z
LAST-MODIFIED:20260416T173355Z
UID:3471-1784458800-1784469600@queensharbouryc.com
SUMMARY:Palm's Fish Camp
DESCRIPTION:Palms Fish Camp Waterfront Meetup\nJoin us for a relaxed waterfront gathering at Palms Fish Camp Restaurant on scenic Heckscher Drive in Jacksonville. Nestled where Clapboard Creek meets the St. Johns River\, it’s the perfect spot for great seafood\, sunset views\, and easy conversation. \nArrive by boat or by car.For those coming by water\, Palms offers convenient dock-and-dine access with floating docks and an easy approach from Clapboard Creek. If you prefer to drive\, ample parking is available on site. \nImportant for boaters:The route in via Clapboard Creek requires passing under the Heckscher Drive / Clapboard Creek bridge. While published clearance can vary with tide\, please check conditions and tides.  Because tide swing can materially change available clearance\, taller boats (hardtops with antennas\, outriggers\, or radar arches) should check local tide height before departing.
URL:https://queensharbouryc.com/event/palms-fish-camp/
CATEGORIES:Cruising,Party
ATTACH;FMTTYPE=image/jpeg:https://queensharbouryc.com/wp-content/uploads/2026/04/palms.1-e1776360551507.jpeg
END:VEVENT
BEGIN:VEVENT
DTSTART;TZID=America/New_York:20260725T180000
DTEND;TZID=America/New_York:20260725T203000
DTSTAMP:20260420T001854
CREATED:20260413T021708Z
LAST-MODIFIED:20260413T021708Z
UID:3454-1785002400-1785011400@queensharbouryc.com
SUMMARY:Tiki on the Harbour
DESCRIPTION:SAVE THE DATE.  IDENTIFYING THE TIKI BOAT AVAILABILITY. \nJoin us for a sunset tiki cruise around the harbor—good music\, great company\, and unbeatable views. Sip\, cruise\, and soak in the island vibes as the sun goes down and the evening comes to life on the water. \n  \n 
URL:https://queensharbouryc.com/event/tiki-on-the-harbour/
CATEGORIES:Cruising,Party
ATTACH;FMTTYPE=image/jpeg:https://queensharbouryc.com/wp-content/uploads/2026/04/TIKI-BOAT.jpeg
END:VEVENT
BEGIN:VEVENT
DTSTART;VALUE=DATE:20260807
DTEND;VALUE=DATE:20260810
DTSTAMP:20260420T001854
CREATED:20260414T030020Z
LAST-MODIFIED:20260414T030020Z
UID:3494-1786060800-1786319999@queensharbouryc.com
SUMMARY:Overnight Cruise: Jekyll Island
DESCRIPTION:Overnight Cruise to Jekyll Island \nDATE SUBJECT TO CHANGE AS WE FINALIZE AVAILABILITY AND RESERVATIONS. \nExperience an elegant coastal escape as we cruise to Jekyll Island and dock at the Jekyll Harbor Marina. \nFriday evening begins with docktails along the marina—an effortless gathering of cocktails\, conversation\, and golden-hour views. Saturday unfolds at your leisure: explore charming island boutiques\, enjoy the nearby water park\, or unwind along the pristine oceanfront. \nAs evening falls\, we’ll come together for a curated group dinner\, offering the perfect setting to relax\, connect\, and savor the experience. \nA refined blend of boating\, coastal beauty\, and effortless camaraderie—this is Jekyll Island at its best.
URL:https://queensharbouryc.com/event/overnight-cruise-jekyll-island/
CATEGORIES:Cruising
ATTACH;FMTTYPE=image/jpeg:https://queensharbouryc.com/wp-content/uploads/2026/04/jekyll.jpg
END:VEVENT
BEGIN:VEVENT
DTSTART;TZID=America/New_York:20260911T170000
DTEND;TZID=America/New_York:20260913T100000
DTSTAMP:20260420T001854
CREATED:20260413T015204Z
LAST-MODIFIED:20260413T015352Z
UID:3440-1789146000-1789293600@queensharbouryc.com
SUMMARY:Overnight Cruise: Hammock Beach!
DESCRIPTION:We are planning on a return trip to beautiful Hammock Beach.  SAVE THE DATE!  We will have Docktails on Friday night and Dinner on Saturday night.  More to come as we finalize reservations! \n  \n \n  \n  \n  \n 
URL:https://queensharbouryc.com/event/overnight-cruise-hammock-beach/
CATEGORIES:Cruising,Party
ATTACH;FMTTYPE=image/jpeg:https://queensharbouryc.com/wp-content/uploads/2026/04/Hammock-Beach.jpg
END:VEVENT
BEGIN:VEVENT
DTSTART;TZID=America/New_York:20260926T080000
DTEND;TZID=America/New_York:20260926T170000
DTSTAMP:20260420T001854
CREATED:20260416T175832Z
LAST-MODIFIED:20260416T175919Z
UID:3520-1790409600-1790442000@queensharbouryc.com
SUMMARY:Mavi Waterfront Meetup
DESCRIPTION:For a more lively marina setting\, join us at Mavi Waterfront Bar & Grill at Beach Marine in Jacksonville Beach. \nArrive by boat or drive. Complimentary temporary dockage is typically available while dining\, subject to marina slip availability\, and the final approach has no bridge-clearance limitations\, making it especially convenient for larger boats. \nThis is a perfect docktails-and-sunset social with an energetic marina vibe and beautiful views. \nScreenshot
URL:https://queensharbouryc.com/event/3520/
CATEGORIES:Cruising,Party
ATTACH;FMTTYPE=image/jpeg:https://queensharbouryc.com/wp-content/uploads/2026/04/Mavi-scaled.jpg
END:VEVENT
BEGIN:VEVENT
DTSTART;VALUE=DATE:20261009
DTEND;VALUE=DATE:20261012
DTSTAMP:20260420T001854
CREATED:20260413T015915Z
LAST-MODIFIED:20260414T023017Z
UID:3447-1791504000-1791763199@queensharbouryc.com
SUMMARY:Overnight Cruise: Welaka (up the St. John's River)
DESCRIPTION:DATE TO BE DETERMINED.  Join us for a relaxed overnight cruise to Welaka Lodge & Resort\, a hidden Old Florida retreat along the scenic St. Johns River. Cruise as a flotilla through beautiful waterways before arriving at this charming waterfront destination. \nEnjoy dockside cocktails\, live music\, and sunset views\, then unwind in cozy accommodations steps from the river. Spend the evening dining and socializing with fellow members\, and wake up to a peaceful morning on the water before cruising home refreshed. \nLIMITED CAPACITY – 10 Cottages Available (3 are also pet friendly!).
URL:https://queensharbouryc.com/event/overnight-cruise-welaka-up-the-st-johns-river/
LOCATION:Welaka\, 1001 Front St\, Welaka\, 32193\, United States
CATEGORIES:Cruising,Party
ATTACH;FMTTYPE=image/png:https://queensharbouryc.com/wp-content/uploads/2026/04/IMG_6632.png
END:VEVENT
BEGIN:VEVENT
DTSTART;TZID=America/New_York:20261017T170000
DTEND;TZID=America/New_York:20261017T200000
DTSTAMP:20260420T001854
CREATED:20260413T023957Z
LAST-MODIFIED:20260415T002653Z
UID:3468-1792256400-1792267200@queensharbouryc.com
SUMMARY:Overnight Cruise: Visit another Yacht Club and watch the Blue Angels - NAS Jax
DESCRIPTION:Join us on the water for an unforgettable day at the Blue Angels Airshow. Experience the thrill of world-class aerial performances from the best seat in the house—your boat. Anchor together with fellow members\, enjoy food and drinks\, and take in the incredible precision and power of the show overhead.
URL:https://queensharbouryc.com/event/blue-angels-nas-jax/
CATEGORIES:Cruising,Party
ATTACH;FMTTYPE=image/jpeg:https://queensharbouryc.com/wp-content/uploads/2022/08/airandseashowjax-scaled.jpg
END:VEVENT
BEGIN:VEVENT
DTSTART;TZID=America/New_York:20261205T183000
DTEND;TZID=America/New_York:20261205T230000
DTSTAMP:20260420T001854
CREATED:20260413T023138Z
LAST-MODIFIED:20260413T023452Z
UID:3462-1796495400-1796511600@queensharbouryc.com
SUMMARY:Holiday Party
DESCRIPTION:Celebrate the season at our annual holiday party\, graciously hosted in a member’s home. Enjoy an elegant evening of festive décor\, seasonal cocktails\, and great company as we gather to toast the holidays together. It’s one of our most anticipated events of the year—don’t miss it.
URL:https://queensharbouryc.com/event/holiday-party/
CATEGORIES:Cruising,Party
ATTACH;FMTTYPE=image/png:https://queensharbouryc.com/wp-content/uploads/2026/04/6A39077E-A9C2-4DF0-A062-EC1288C3FA2A.png
END:VEVENT
BEGIN:VEVENT
DTSTART;TZID=America/New_York:20261212T180000
DTEND;TZID=America/New_York:20261212T200000
DTSTAMP:20260420T001854
CREATED:20260413T045019Z
LAST-MODIFIED:20260413T050204Z
UID:3475-1797098400-1797105600@queensharbouryc.com
SUMMARY:32nd Annual Lighted Boat Parade
DESCRIPTION:Celebrate one of the most anticipated traditions of the season at our 32nd Annual Lighted Boat Parade! As the sun sets\, the waterway comes alive with beautifully decorated boats glowing in festive lights\, cruising together in a dazzling display of creativity and holiday spirit. Gather with friends and neighbors along the docks or from your favorite waterfront spot to enjoy the magic\, music\, and community cheer. Whether you’re participating or watching\, it’s an unforgettable evening on the water you won’t want to miss! \n  \nA possible alternative to the parade we may consider given safety/visibility concerns: \n32nd Annual Lighted Boat & Harbor Holiday ShowcaseReimagining a cherished tradition\, this year’s celebration transforms into an elegant Lighted Boat & Harbor Holiday Showcase. Members are invited to curate stunning holiday displays aboard their vessels and along their waterfront homes\, creating a beautifully illuminated harbor experience. \nGuests will enjoy the evening from a limited number of select spectator vessels\, cruising the waterways in comfort while taking in the festive displays. Thoughtfully paced and effortlessly refined\, the evening blends holiday ambiance with a relaxed\, social atmosphere. \nAwards will be presented for the most exceptional designs\, celebrating creativity\, style\, and holiday spirit. Join us for a sophisticated evening on the water—where the glow of the season meets the elegance of the harbor.
URL:https://queensharbouryc.com/event/32nd-annual-lighted-boat-parade/
CATEGORIES:Cruising
ATTACH;FMTTYPE=image/jpeg:https://queensharbouryc.com/wp-content/uploads/2026/04/IMG_4211.jpg
END:VEVENT
BEGIN:VEVENT
DTSTART;VALUE=DATE:20270220
DTEND;VALUE=DATE:20270308
DTSTAMP:20260420T001854
CREATED:20260413T022412Z
LAST-MODIFIED:20260414T143820Z
UID:3458-1803081600-1804463999@queensharbouryc.com
SUMMARY:Placeholder:  A Cruise Ship to the Bahamas!
DESCRIPTION:Last year\, many of our members independently enjoyed an unforgettable Bahamian cruise that blended luxury\, friendship\, and adventure beyond the harbor.  From Queens Harbour to crystal Bahamian waters\, the voyage captured the spirit of our club—elevated experiences shared with great friends.  DATES TO CHANGE AND DETAILS TO FOLLOW.  
URL:https://queensharbouryc.com/event/norwegian-dawn-community-cruise/
CATEGORIES:Cruising,Party
ATTACH;FMTTYPE=image/jpeg:https://queensharbouryc.com/wp-content/uploads/2026/04/CRUISE-SHIP-scaled.jpg
END:VEVENT
BEGIN:VEVENT
DTSTART;TZID=America/New_York:20270320T180000
DTEND;TZID=America/New_York:20270320T230000
DTSTAMP:20260420T001854
CREATED:20260416T181344Z
LAST-MODIFIED:20260416T181630Z
UID:3525-1805565600-1805583600@queensharbouryc.com
SUMMARY:Commodore's Gala:  Something Extraordinary is on the Horizon!
DESCRIPTION:DATE AND DETAILS TO BE ANNOUNCED SOON! \nA remarkable evening is quietly coming together behind the scenes.The 2027 Commodore’s Gala promises to be a signature event filled with sophistication\, surprises\, and the kind of unforgettable moments that define the very best of club life. \nWhile the official date and details will be unveiled soon\, one thing is already certain:this is a celebration you will not want to miss.
URL:https://queensharbouryc.com/event/commodores-gala-something-extraordinary-is-on-the-horizon/
CATEGORIES:Cruising,First Mates,Party
ATTACH;FMTTYPE=image/png:https://queensharbouryc.com/wp-content/uploads/2026/04/ChatGPT-Image-Apr-16-2026-02_08_49-PM.png
END:VEVENT
END:VCALENDAR