BEGIN:VCALENDAR
VERSION:2.0
PRODID:-//Queens Harbour Yacht Club - ECPv6.15.20//NONSGML v1.0//EN
CALSCALE:GREGORIAN
METHOD:PUBLISH
X-WR-CALNAME:Queens Harbour Yacht Club
X-ORIGINAL-URL:https://queensharbouryc.com
X-WR-CALDESC:Events for Queens Harbour Yacht Club
REFRESH-INTERVAL;VALUE=DURATION:PT1H
X-Robots-Tag:noindex
X-PUBLISHED-TTL:PT1H
BEGIN:VTIMEZONE
TZID:America/New_York
BEGIN:DAYLIGHT
TZOFFSETFROM:-0500
TZOFFSETTO:-0400
TZNAME:EDT
DTSTART:20250309T070000
END:DAYLIGHT
BEGIN:STANDARD
TZOFFSETFROM:-0400
TZOFFSETTO:-0500
TZNAME:EST
DTSTART:20251102T060000
END:STANDARD
BEGIN:DAYLIGHT
TZOFFSETFROM:-0500
TZOFFSETTO:-0400
TZNAME:EDT
DTSTART:20260308T070000
END:DAYLIGHT
BEGIN:STANDARD
TZOFFSETFROM:-0400
TZOFFSETTO:-0500
TZNAME:EST
DTSTART:20261101T060000
END:STANDARD
BEGIN:DAYLIGHT
TZOFFSETFROM:-0500
TZOFFSETTO:-0400
TZNAME:EDT
DTSTART:20270314T070000
END:DAYLIGHT
BEGIN:STANDARD
TZOFFSETFROM:-0400
TZOFFSETTO:-0500
TZNAME:EST
DTSTART:20271107T060000
END:STANDARD
END:VTIMEZONE
BEGIN:VEVENT
DTSTART;TZID=America/New_York:20260911T170000
DTEND;TZID=America/New_York:20260913T100000
DTSTAMP:20260420T061531
CREATED:20260413T015204Z
LAST-MODIFIED:20260413T015352Z
UID:3440-1789146000-1789293600@queensharbouryc.com
SUMMARY:Overnight Cruise: Hammock Beach!
DESCRIPTION:We are planning on a return trip to beautiful Hammock Beach.  SAVE THE DATE!  We will have Docktails on Friday night and Dinner on Saturday night.  More to come as we finalize reservations! \n  \n \n  \n  \n  \n 
URL:https://queensharbouryc.com/event/overnight-cruise-hammock-beach/
CATEGORIES:Cruising,Party
ATTACH;FMTTYPE=image/jpeg:https://queensharbouryc.com/wp-content/uploads/2026/04/Hammock-Beach.jpg
END:VEVENT
BEGIN:VEVENT
DTSTART;TZID=America/New_York:20260926T080000
DTEND;TZID=America/New_York:20260926T170000
DTSTAMP:20260420T061531
CREATED:20260416T175832Z
LAST-MODIFIED:20260416T175919Z
UID:3520-1790409600-1790442000@queensharbouryc.com
SUMMARY:Mavi Waterfront Meetup
DESCRIPTION:For a more lively marina setting\, join us at Mavi Waterfront Bar & Grill at Beach Marine in Jacksonville Beach. \nArrive by boat or drive. Complimentary temporary dockage is typically available while dining\, subject to marina slip availability\, and the final approach has no bridge-clearance limitations\, making it especially convenient for larger boats. \nThis is a perfect docktails-and-sunset social with an energetic marina vibe and beautiful views. \nScreenshot
URL:https://queensharbouryc.com/event/3520/
CATEGORIES:Cruising,Party
ATTACH;FMTTYPE=image/jpeg:https://queensharbouryc.com/wp-content/uploads/2026/04/Mavi-scaled.jpg
END:VEVENT
END:VCALENDAR